BEGIN:VCALENDAR
VERSION:2.0
PRODID:-//Brazos Valley Center for Independent Living - ECPv6.15.20//NONSGML v1.0//EN
CALSCALE:GREGORIAN
METHOD:PUBLISH
X-ORIGINAL-URL:https://www.bvcil.org
X-WR-CALDESC:Events for Brazos Valley Center for Independent Living
REFRESH-INTERVAL;VALUE=DURATION:PT1H
X-Robots-Tag:noindex
X-PUBLISHED-TTL:PT1H
BEGIN:VTIMEZONE
TZID:America/Chicago
BEGIN:DAYLIGHT
TZOFFSETFROM:-0600
TZOFFSETTO:-0500
TZNAME:CDT
DTSTART:20210314T080000
END:DAYLIGHT
BEGIN:STANDARD
TZOFFSETFROM:-0500
TZOFFSETTO:-0600
TZNAME:CST
DTSTART:20211107T070000
END:STANDARD
BEGIN:DAYLIGHT
TZOFFSETFROM:-0600
TZOFFSETTO:-0500
TZNAME:CDT
DTSTART:20220313T080000
END:DAYLIGHT
BEGIN:STANDARD
TZOFFSETFROM:-0500
TZOFFSETTO:-0600
TZNAME:CST
DTSTART:20221106T070000
END:STANDARD
BEGIN:DAYLIGHT
TZOFFSETFROM:-0600
TZOFFSETTO:-0500
TZNAME:CDT
DTSTART:20230312T080000
END:DAYLIGHT
BEGIN:STANDARD
TZOFFSETFROM:-0500
TZOFFSETTO:-0600
TZNAME:CST
DTSTART:20231105T070000
END:STANDARD
END:VTIMEZONE
BEGIN:VEVENT
DTSTART;TZID=America/Chicago:20221130T150000
DTEND;TZID=America/Chicago:20221130T170000
DTSTAMP:20260424T104428
CREATED:20220826T181939Z
LAST-MODIFIED:20220928T193256Z
UID:7793-1669820400-1669827600@www.bvcil.org
SUMMARY:Destination Bryan/ College Station
DESCRIPTION:Day:WednesdaysTime:3:00 pmDuration:14 weeks beginning August 31stFacilitator:Ana San AndresCourse Description:Each week take a journey to a fun\, meaningful location around town.  Learn to navigate various forms of transportation and learn the history and society of the B/CS CommunityKey Components:Transportation NavigationHistorically and culturally relevant destinationsRepresent people with disabilities and BVCIL in the community
URL:https://www.bvcil.org/event/destination-bryan-college-station-2022-09-28-2-2022-10-05-2022-10-05-2022-11-30/
LOCATION:Brazos Valley Center for Independent Living\, 1869 Briarcrest Dr\, Bryan\, TX\, 77802
END:VEVENT
BEGIN:VEVENT
DTSTART;TZID=America/Chicago:20220928T150000
DTEND;TZID=America/Chicago:20220928T170000
DTSTAMP:20260424T104428
CREATED:20220826T181939Z
LAST-MODIFIED:20220928T191722Z
UID:8816-1664377200-1664384400@www.bvcil.org
SUMMARY:Destination Bryan/ College Station
DESCRIPTION:Day:WednesdaysTime:3:00 pmDuration:14 weeks beginning August 31stFacilitator:Ana San AndresCourse Description:Each week take a journey to a fun\, meaningful location around town.  Learn to navigate various forms of transportation and learn the history and society of the B/CS CommunityKey Components:Transportation NavigationHistorically and culturally relevant destinationsRepresent people with disabilities and BVCIL in the community
URL:https://www.bvcil.org/event/destination-bryan-college-station-2022-09-28-2/
LOCATION:Brazos Valley Center for Independent Living\, 1869 Briarcrest Dr\, Bryan\, TX\, 77802
END:VEVENT
BEGIN:VEVENT
DTSTART;TZID=America/Chicago:20221130T130000
DTEND;TZID=America/Chicago:20221130T140000
DTSTAMP:20260424T104428
CREATED:20220826T182323Z
LAST-MODIFIED:20221102T154652Z
UID:7809-1669813200-1669816800@www.bvcil.org
SUMMARY:Purposeful Body Movement
DESCRIPTION:Day:WednesdaysTime:1:00 pmDuration:14 weeks beginning August 31stFacilitator:Justin DeLeonCourse Description:Get your heart rate up and learn some new moves.  Dance is a fun\, beautiful form of healthy exercise. Key Components:Why is dance importantDance as exerciseDifferent forms of dance
URL:https://www.bvcil.org/event/purposeful-body-movement-2022-11-30/
LOCATION:Brazos Valley Center for Independent Living\, 1869 Briarcrest Dr\, Bryan\, TX\, 77802
END:VEVENT
BEGIN:VEVENT
DTSTART;TZID=America/Chicago:20221130T110000
DTEND;TZID=America/Chicago:20221130T120000
DTSTAMP:20260424T104428
CREATED:20220829T142638Z
LAST-MODIFIED:20221102T154943Z
UID:8310-1669806000-1669809600@www.bvcil.org
SUMMARY:Preparing to Drive
DESCRIPTION:Day:WednesdaysTime:11:00 amDuration:14 weeks beginning August 31stFacilitator:Justin DeLeonCourse Description:Driving is a serious responsibility.  In this course\, you will learn the rules of the road and prepare for the Texas Written Driving Exam.  This course DOES NOT replace formal driver’s education.Key Components:Rules of the roadPreparation for the written driver’s test
URL:https://www.bvcil.org/event/preparing-to-drive-2022-10-05-2022-11-30/
LOCATION:TX
END:VEVENT
BEGIN:VEVENT
DTSTART;TZID=America/Chicago:20220830T160000
DTEND;TZID=America/Chicago:20220830T170000
DTSTAMP:20260424T104428
CREATED:20220826T182626Z
LAST-MODIFIED:20220829T134746Z
UID:7810-1661875200-1661878800@www.bvcil.org
SUMMARY:Healthy Cooking
DESCRIPTION:Day:TuesdaysTime:4:00 pmDuration:14 weeks beginning August 30thFacilitator:Justin De LeonCourse Description:Learn how to safely access your kitchen and plan and prepare delicious\, nutritious\, and economical. Key Components:Food handlers certification Adapted cooking toolsKitchen safety and cleanlinessPlanning a healthy dietPreparing healthy recipesParing your kitchen garden with your kitchen
URL:https://www.bvcil.org/event/healthy-cooking/
LOCATION:Brazos Valley Center for Independent Living\, 1869 Briarcrest Dr\, Bryan\, TX\, 77802
END:VEVENT
BEGIN:VEVENT
DTSTART;TZID=America/Chicago:20221129T160000
DTEND;TZID=America/Chicago:20221129T170000
DTSTAMP:20260424T104428
CREATED:20220826T182626Z
LAST-MODIFIED:20221102T155130Z
UID:7825-1669737600-1669741200@www.bvcil.org
SUMMARY:Healthy Cooking
DESCRIPTION:Day:TuesdaysTime:4:00 pmDuration:14 weeks beginning August 30thFacilitator:Justin De LeonCourse Description:Learn how to safely access your kitchen and plan and prepare delicious\, nutritious\, and economical. Key Components:Food handlers certification Adapted cooking toolsKitchen safety and cleanlinessPlanning a healthy dietPreparing healthy recipesParing your kitchen garden with your kitchen
URL:https://www.bvcil.org/event/healthy-cooking-2022-11-08-2022-11-29/
LOCATION:Brazos Valley Center for Independent Living\, 1869 Briarcrest Dr\, Bryan\, TX\, 77802
ORGANIZER;CN="Brazos Valley Center for Independent Living":MAILTO:info@bvcil.org
END:VEVENT
BEGIN:VEVENT
DTSTART;TZID=America/Chicago:20221129T150000
DTEND;TZID=America/Chicago:20221129T160000
DTSTAMP:20260424T104428
CREATED:20220826T183550Z
LAST-MODIFIED:20221102T155244Z
UID:7841-1669734000-1669737600@www.bvcil.org
SUMMARY:Gardening for the Kitchen
DESCRIPTION:Day:TuesdaysTime:3:00 pmDuration:14 weeks beginning August 30thFacilitator:Mack MarshCourse Description:Fresh herbs and vegetables can be a healthy and economical part of everyone’s diet.  Learn how to grow a container garden for your kitchenKey Components:Container gardeningTAMU Teaching Garden field tripMaximizing SNAP benefits through gardening
URL:https://www.bvcil.org/event/gardening-for-the-kitchen-2022-11-29/
LOCATION:Brazos Valley Center for Independent Living\, 1869 Briarcrest Dr\, Bryan\, TX\, 77802
END:VEVENT
BEGIN:VEVENT
DTSTART;TZID=America/Chicago:20221108T110000
DTEND;TZID=America/Chicago:20221108T120000
DTSTAMP:20260424T104428
CREATED:20220826T184420Z
LAST-MODIFIED:20221102T153321Z
UID:7899-1667905200-1667908800@www.bvcil.org
SUMMARY:Financial Navigation
DESCRIPTION:Day:TuesdaysTime:1:00 pmDuration:14 weeks beginning August 29thFacilitator:Justin DeLeonCourse Description:Managing money and navigating a complex financial world are key components of independence for everyone.  This course will begin with the basics of money management and how to access the tools and institutions available.Key Components:Basic money managementSaving for the futureHow to balance a checkbookUnderstanding CreditDebit Cards v Credit CardsBill payment and BudgetingKnowing your bankHow to Build Wealth for the future
URL:https://www.bvcil.org/event/financial-navigation-2022-11-07/
LOCATION:Brazos Valley Center for Independent Living\, 1869 Briarcrest Dr\, Bryan\, TX\, 77802
ORGANIZER;CN="Brazos Valley Center for Independent Living":MAILTO:info@bvcil.org
END:VEVENT
BEGIN:VEVENT
DTSTART;TZID=America/Chicago:20220829T150000
DTEND;TZID=America/Chicago:20220829T160000
DTSTAMP:20260424T104428
CREATED:20220826T184223Z
LAST-MODIFIED:20220826T184225Z
UID:7871-1661785200-1661788800@www.bvcil.org
SUMMARY:Adulthood 101
DESCRIPTION:Day:MondaysTime:3:00 pmDuration:14 weeks beginning August 29thFacilitator:Justin DeLeonCourse Description:Making critical choices in a healthy way is important to successful independence.  This course provides important tools and techniques for making responsible\, informed choices and how to act in an adult manner.Key Components:Mature v Juvenile behaviorInformed choice and decision makingImproving interpersonal skills
URL:https://www.bvcil.org/event/adulthood-101/
LOCATION:Brazos Valley Center for Independent Living\, 1869 Briarcrest Dr\, Bryan\, TX\, 77802
END:VEVENT
BEGIN:VEVENT
DTSTART;TZID=America/Chicago:20221107T130000
DTEND;TZID=America/Chicago:20221107T140000
DTSTAMP:20260424T104428
CREATED:20220826T184101Z
LAST-MODIFIED:20221102T153827Z
UID:7870-1667826000-1667829600@www.bvcil.org
SUMMARY:Accessing Community
DESCRIPTION:Day:Mondays          Time:11:00 amDuration:14 weeks beginning August 30thFacilitator:Justin DeLeonCourse Description:There are numerous supports available for people with disabilities to live and work in their community.  Navigating these services can often be confusing and overwhelming.  In this 14-week course\, learn about the supports available\, meet the people involved and how to navigate the processes.Key Components:MHMRTWC-VRHousing Voucher Benefits PlanningLIHEAP
URL:https://www.bvcil.org/event/accessing-community-2022-11-08/
LOCATION:Brazos Valley Center for Independent Living\, 1869 Briarcrest Dr\, Bryan\, TX\, 77802
ORGANIZER;CN="Brazos Valley Center for Independent Living":MAILTO:info@bvcil.org
END:VEVENT
BEGIN:VEVENT
DTSTART;TZID=America/Chicago:20220901T110000
DTEND;TZID=America/Chicago:20220901T120000
DTSTAMP:20260424T104428
CREATED:20220826T181059Z
LAST-MODIFIED:20220901T131519Z
UID:7752-1662030000-1662033600@www.bvcil.org
SUMMARY:Get in Gear
DESCRIPTION:Day:ThursdaysTime:11:00 amDuration:14 weeks beginning September 1stFacilitator:Justin DeLeonCourse Description:Get your sweat on!  Exercise is important to your physical and mental health.  Learn about exercise and take part in a high-intensity exercise classKey Components:Different types of exerciseHow to choose the right workoutGet that heart rate up
URL:https://www.bvcil.org/event/get-in-gear/
LOCATION:Brazos Valley Center for Independent Living\, 1869 Briarcrest Dr\, Bryan\, TX\, 77802
ORGANIZER;CN="Brazos Valley Center for Independent Living":MAILTO:info@bvcil.org
END:VEVENT
BEGIN:VEVENT
DTSTART;TZID=America/Chicago:20221123T150000
DTEND;TZID=America/Chicago:20221123T170000
DTSTAMP:20260424T104428
CREATED:20220826T181939Z
LAST-MODIFIED:20220928T193249Z
UID:7792-1669215600-1669222800@www.bvcil.org
SUMMARY:Destination Bryan/ College Station
DESCRIPTION:Day:WednesdaysTime:3:00 pmDuration:14 weeks beginning August 31stFacilitator:Ana San AndresCourse Description:Each week take a journey to a fun\, meaningful location around town.  Learn to navigate various forms of transportation and learn the history and society of the B/CS CommunityKey Components:Transportation NavigationHistorically and culturally relevant destinationsRepresent people with disabilities and BVCIL in the community
URL:https://www.bvcil.org/event/destination-bryan-college-station-2022-09-28-2-2022-10-05-2022-10-05-2022-11-23/
LOCATION:Brazos Valley Center for Independent Living\, 1869 Briarcrest Dr\, Bryan\, TX\, 77802
END:VEVENT
BEGIN:VEVENT
DTSTART;TZID=America/Chicago:20220928T150000
DTEND;TZID=America/Chicago:20220928T170000
DTSTAMP:20260424T104428
CREATED:20220826T181939Z
LAST-MODIFIED:20220928T191722Z
UID:8816-1664377200-1664384400@www.bvcil.org
SUMMARY:Destination Bryan/ College Station
DESCRIPTION:Day:WednesdaysTime:3:00 pmDuration:14 weeks beginning August 31stFacilitator:Ana San AndresCourse Description:Each week take a journey to a fun\, meaningful location around town.  Learn to navigate various forms of transportation and learn the history and society of the B/CS CommunityKey Components:Transportation NavigationHistorically and culturally relevant destinationsRepresent people with disabilities and BVCIL in the community
URL:https://www.bvcil.org/event/destination-bryan-college-station-2022-09-28-2/
LOCATION:Brazos Valley Center for Independent Living\, 1869 Briarcrest Dr\, Bryan\, TX\, 77802
END:VEVENT
BEGIN:VEVENT
DTSTART;TZID=America/Chicago:20220831T130000
DTEND;TZID=America/Chicago:20220831T140000
DTSTAMP:20260424T104428
CREATED:20220826T182312Z
LAST-MODIFIED:20220826T182314Z
UID:7794-1661950800-1661954400@www.bvcil.org
SUMMARY:Purposeful Body Movement
DESCRIPTION:Day:WednesdaysTime:1:00 pmDuration:14 weeks beginning August 31stFacilitator:Justin DeLeonCourse Description:Get your heart rate up and learn some new moves.  Dance is a fun\, beautiful form of healthy exercise. Key Components:Why is dance importantDance as exerciseDifferent forms of dance
URL:https://www.bvcil.org/event/purposeful-body-movement/
LOCATION:Brazos Valley Center for Independent Living\, 1869 Briarcrest Dr\, Bryan\, TX\, 77802
END:VEVENT
BEGIN:VEVENT
DTSTART;TZID=America/Chicago:20221123T080000
DTEND;TZID=America/Chicago:20221123T170000
DTSTAMP:20260424T104428
CREATED:20221028T151449Z
LAST-MODIFIED:20221028T151450Z
UID:8985-1669190400-1669222800@www.bvcil.org
SUMMARY:Test
DESCRIPTION:
URL:https://www.bvcil.org/event/test/
LOCATION:Brazos Valley Center for Independent Living\, 1869 Briarcrest Dr\, Bryan\, TX\, 77802
ORGANIZER;CN="Hero House Creative":MAILTO:angela@herohousecreative.com
END:VEVENT
BEGIN:VEVENT
DTSTART;TZID=America/Chicago:20220830T180000
DTEND;TZID=America/Chicago:20220830T190000
DTSTAMP:20260424T104428
CREATED:20220825T195806Z
LAST-MODIFIED:20220825T195807Z
UID:7721-1661882400-1661886000@www.bvcil.org
SUMMARY:Parenting to Independence: A 10 Tuesdays Class for Parents
DESCRIPTION:Course:Parenting to Independence – A 10 Tuesdays Class for ParentsDay:TuesdaysTime:6:00 pmDuration:10 sessions every other week beginning August 30thFacilitator:Mack MarshCourse Description:As parents we want our children to be safe\, healthy\, and move ever more toward independence.  As parents of a person with a disability\, it is sometimes difficult to envision what independence looks like and how best to support them on that journey.Key Components:History and philosophy of Independent LivingTurning lose without letting goSupport availableOur child’s journey beyond our guidance
URL:https://www.bvcil.org/event/parenting-to-independence-a-10-tuesdays-class-for-parents/
LOCATION:Brazos Valley Center for Independent Living\, 1869 Briarcrest Dr\, Bryan\, TX\, 77802
END:VEVENT
BEGIN:VEVENT
DTSTART;TZID=America/Chicago:20220830T160000
DTEND;TZID=America/Chicago:20220830T170000
DTSTAMP:20260424T104428
CREATED:20220826T182626Z
LAST-MODIFIED:20220829T134746Z
UID:7810-1661875200-1661878800@www.bvcil.org
SUMMARY:Healthy Cooking
DESCRIPTION:Day:TuesdaysTime:4:00 pmDuration:14 weeks beginning August 30thFacilitator:Justin De LeonCourse Description:Learn how to safely access your kitchen and plan and prepare delicious\, nutritious\, and economical. Key Components:Food handlers certification Adapted cooking toolsKitchen safety and cleanlinessPlanning a healthy dietPreparing healthy recipesParing your kitchen garden with your kitchen
URL:https://www.bvcil.org/event/healthy-cooking/
LOCATION:Brazos Valley Center for Independent Living\, 1869 Briarcrest Dr\, Bryan\, TX\, 77802
END:VEVENT
BEGIN:VEVENT
DTSTART;TZID=America/Chicago:20220830T150000
DTEND;TZID=America/Chicago:20220830T160000
DTSTAMP:20260424T104428
CREATED:20220826T183537Z
LAST-MODIFIED:20220826T183538Z
UID:7826-1661871600-1661875200@www.bvcil.org
SUMMARY:Gardening for the Kitchen
DESCRIPTION:Day:TuesdaysTime:3:00 pmDuration:14 weeks beginning August 30thFacilitator:Mack MarshCourse Description:Fresh herbs and vegetables can be a healthy and economical part of everyone’s diet.  Learn how to grow a container garden for your kitchenKey Components:Container gardeningTAMU Teaching Garden field tripMaximizing SNAP benefits through gardening
URL:https://www.bvcil.org/event/gardening-for-the-kitchen/
LOCATION:Brazos Valley Center for Independent Living\, 1869 Briarcrest Dr\, Bryan\, TX\, 77802
END:VEVENT
BEGIN:VEVENT
DTSTART;TZID=America/Chicago:20221108T110000
DTEND;TZID=America/Chicago:20221108T120000
DTSTAMP:20260424T104428
CREATED:20220826T184420Z
LAST-MODIFIED:20221102T153321Z
UID:7899-1667905200-1667908800@www.bvcil.org
SUMMARY:Financial Navigation
DESCRIPTION:Day:TuesdaysTime:1:00 pmDuration:14 weeks beginning August 29thFacilitator:Justin DeLeonCourse Description:Managing money and navigating a complex financial world are key components of independence for everyone.  This course will begin with the basics of money management and how to access the tools and institutions available.Key Components:Basic money managementSaving for the futureHow to balance a checkbookUnderstanding CreditDebit Cards v Credit CardsBill payment and BudgetingKnowing your bankHow to Build Wealth for the future
URL:https://www.bvcil.org/event/financial-navigation-2022-11-07/
LOCATION:Brazos Valley Center for Independent Living\, 1869 Briarcrest Dr\, Bryan\, TX\, 77802
ORGANIZER;CN="Brazos Valley Center for Independent Living":MAILTO:info@bvcil.org
END:VEVENT
BEGIN:VEVENT
DTSTART;TZID=America/Chicago:20220829T150000
DTEND;TZID=America/Chicago:20220829T160000
DTSTAMP:20260424T104428
CREATED:20220826T184223Z
LAST-MODIFIED:20220826T184225Z
UID:7871-1661785200-1661788800@www.bvcil.org
SUMMARY:Adulthood 101
DESCRIPTION:Day:MondaysTime:3:00 pmDuration:14 weeks beginning August 29thFacilitator:Justin DeLeonCourse Description:Making critical choices in a healthy way is important to successful independence.  This course provides important tools and techniques for making responsible\, informed choices and how to act in an adult manner.Key Components:Mature v Juvenile behaviorInformed choice and decision makingImproving interpersonal skills
URL:https://www.bvcil.org/event/adulthood-101/
LOCATION:Brazos Valley Center for Independent Living\, 1869 Briarcrest Dr\, Bryan\, TX\, 77802
END:VEVENT
BEGIN:VEVENT
DTSTART;TZID=America/Chicago:20221107T130000
DTEND;TZID=America/Chicago:20221107T140000
DTSTAMP:20260424T104428
CREATED:20220826T184101Z
LAST-MODIFIED:20221102T153827Z
UID:7870-1667826000-1667829600@www.bvcil.org
SUMMARY:Accessing Community
DESCRIPTION:Day:Mondays          Time:11:00 amDuration:14 weeks beginning August 30thFacilitator:Justin DeLeonCourse Description:There are numerous supports available for people with disabilities to live and work in their community.  Navigating these services can often be confusing and overwhelming.  In this 14-week course\, learn about the supports available\, meet the people involved and how to navigate the processes.Key Components:MHMRTWC-VRHousing Voucher Benefits PlanningLIHEAP
URL:https://www.bvcil.org/event/accessing-community-2022-11-08/
LOCATION:Brazos Valley Center for Independent Living\, 1869 Briarcrest Dr\, Bryan\, TX\, 77802
ORGANIZER;CN="Brazos Valley Center for Independent Living":MAILTO:info@bvcil.org
END:VEVENT
BEGIN:VEVENT
DTSTART;TZID=America/Chicago:20221117T160000
DTEND;TZID=America/Chicago:20221117T170000
DTSTAMP:20260424T104428
CREATED:20220825T214623Z
LAST-MODIFIED:20220907T191605Z
UID:8009-1668700800-1668704400@www.bvcil.org
SUMMARY:Art and Science of Mindful Meditation
DESCRIPTION:Day:ThursdaysTime:4:00 pmDuration:14 weeks beginning September 1stFacilitator:Justin DeLeonCourse Description:Centering your mind and having techniques to calm your spirit are important tools to achieve independence.  In this course learn techniques to do both as well as the history of various types of meditation and how they benefit you.Key Components:History of meditationThe mind/body connectionTechniques of meditation
URL:https://www.bvcil.org/event/art-and-science-of-mindful-meditation-2022-11-17/
LOCATION:Brazos Valley Center for Independent Living\, 1869 Briarcrest Dr\, Bryan\, TX\, 77802
ORGANIZER;CN="Brazos Valley Center for Independent Living":MAILTO:info@bvcil.org
END:VEVENT
BEGIN:VEVENT
DTSTART;TZID=America/Chicago:20221117T160000
DTEND;TZID=America/Chicago:20221117T170000
DTSTAMP:20260424T104428
CREATED:20220825T211624Z
LAST-MODIFIED:20220907T164715Z
UID:7746-1668700800-1668704400@www.bvcil.org
SUMMARY:Leadership Advocacy (Invitation Only)
DESCRIPTION:Day:ThursdaysTime:4:00 pmDuration:14 weeks beginning September 1stFacilitator:Mack MarshCourse Description:People with disabilities represent 20% of our population; it’s important they have a voice.  In this group learn how to be an effective representative for the disability community and how to use your voice to influence programs and policy.Key Components:Systems advocacy
URL:https://www.bvcil.org/event/leadership-advocacy-invitation-only-2022-11-17/
LOCATION:Brazos Valley Center for Independent Living\, 1869 Briarcrest Dr\, Bryan\, TX\, 77802
ORGANIZER;CN="Brazos Valley Center for Independent Living":MAILTO:info@bvcil.org
END:VEVENT
BEGIN:VEVENT
DTSTART;TZID=America/Chicago:20221117T110000
DTEND;TZID=America/Chicago:20221117T120000
DTSTAMP:20260424T104428
CREATED:20220826T181059Z
LAST-MODIFIED:20220907T164635Z
UID:7765-1668682800-1668686400@www.bvcil.org
SUMMARY:Get in Gear
DESCRIPTION:Day:ThursdaysTime:11:00 amDuration:14 weeks beginning September 1stFacilitator:Justin DeLeonCourse Description:Get your sweat on!  Exercise is important to your physical and mental health.  Learn about exercise and take part in a high-intensity exercise classKey Components:Different types of exerciseHow to choose the right workoutGet that heart rate up
URL:https://www.bvcil.org/event/get-in-gear-2022-11-17/
LOCATION:Brazos Valley Center for Independent Living\, 1869 Briarcrest Dr\, Bryan\, TX\, 77802
ORGANIZER;CN="Brazos Valley Center for Independent Living":MAILTO:info@bvcil.org
END:VEVENT
BEGIN:VEVENT
DTSTART;TZID=America/Chicago:20221116T150000
DTEND;TZID=America/Chicago:20221116T170000
DTSTAMP:20260424T104428
CREATED:20220826T181939Z
LAST-MODIFIED:20220928T193241Z
UID:8833-1668610800-1668618000@www.bvcil.org
SUMMARY:Destination Bryan/ College Station
DESCRIPTION:Day:WednesdaysTime:3:00 pmDuration:14 weeks beginning August 31stFacilitator:Ana San AndresCourse Description:Each week take a journey to a fun\, meaningful location around town.  Learn to navigate various forms of transportation and learn the history and society of the B/CS CommunityKey Components:Transportation NavigationHistorically and culturally relevant destinationsRepresent people with disabilities and BVCIL in the community
URL:https://www.bvcil.org/event/destination-bryan-college-station-2022-09-28-2-2022-10-05-2022-10-05-2022-11-16/
LOCATION:Brazos Valley Center for Independent Living\, 1869 Briarcrest Dr\, Bryan\, TX\, 77802
END:VEVENT
BEGIN:VEVENT
DTSTART;TZID=America/Chicago:20220928T150000
DTEND;TZID=America/Chicago:20220928T170000
DTSTAMP:20260424T104428
CREATED:20220826T181939Z
LAST-MODIFIED:20220928T191722Z
UID:8816-1664377200-1664384400@www.bvcil.org
SUMMARY:Destination Bryan/ College Station
DESCRIPTION:Day:WednesdaysTime:3:00 pmDuration:14 weeks beginning August 31stFacilitator:Ana San AndresCourse Description:Each week take a journey to a fun\, meaningful location around town.  Learn to navigate various forms of transportation and learn the history and society of the B/CS CommunityKey Components:Transportation NavigationHistorically and culturally relevant destinationsRepresent people with disabilities and BVCIL in the community
URL:https://www.bvcil.org/event/destination-bryan-college-station-2022-09-28-2/
LOCATION:Brazos Valley Center for Independent Living\, 1869 Briarcrest Dr\, Bryan\, TX\, 77802
END:VEVENT
BEGIN:VEVENT
DTSTART;TZID=America/Chicago:20221116T130000
DTEND;TZID=America/Chicago:20221116T140000
DTSTAMP:20260424T104428
CREATED:20220826T182322Z
LAST-MODIFIED:20220907T164514Z
UID:7807-1668603600-1668607200@www.bvcil.org
SUMMARY:Purposeful Body Movement
DESCRIPTION:Day:WednesdaysTime:1:00 pmDuration:14 weeks beginning August 31stFacilitator:Justin DeLeonCourse Description:Get your heart rate up and learn some new moves.  Dance is a fun\, beautiful form of healthy exercise. Key Components:Why is dance importantDance as exerciseDifferent forms of dance
URL:https://www.bvcil.org/event/purposeful-body-movement-2022-11-16/
LOCATION:Brazos Valley Center for Independent Living\, 1869 Briarcrest Dr\, Bryan\, TX\, 77802
ORGANIZER;CN="Brazos Valley Center for Independent Living":MAILTO:info@bvcil.org
END:VEVENT
BEGIN:VEVENT
DTSTART;TZID=America/Chicago:20220830T160000
DTEND;TZID=America/Chicago:20220830T170000
DTSTAMP:20260424T104428
CREATED:20220826T182626Z
LAST-MODIFIED:20220829T134746Z
UID:7810-1661875200-1661878800@www.bvcil.org
SUMMARY:Healthy Cooking
DESCRIPTION:Day:TuesdaysTime:4:00 pmDuration:14 weeks beginning August 30thFacilitator:Justin De LeonCourse Description:Learn how to safely access your kitchen and plan and prepare delicious\, nutritious\, and economical. Key Components:Food handlers certification Adapted cooking toolsKitchen safety and cleanlinessPlanning a healthy dietPreparing healthy recipesParing your kitchen garden with your kitchen
URL:https://www.bvcil.org/event/healthy-cooking/
LOCATION:Brazos Valley Center for Independent Living\, 1869 Briarcrest Dr\, Bryan\, TX\, 77802
END:VEVENT
BEGIN:VEVENT
DTSTART;TZID=America/Chicago:20221115T150000
DTEND;TZID=America/Chicago:20221115T160000
DTSTAMP:20260424T104428
CREATED:20220826T183547Z
LAST-MODIFIED:20220907T191444Z
UID:7839-1668524400-1668528000@www.bvcil.org
SUMMARY:Gardening for the Kitchen
DESCRIPTION:Day:TuesdaysTime:3:00 pmDuration:14 weeks beginning August 30thFacilitator:Mack MarshCourse Description:Fresh herbs and vegetables can be a healthy and economical part of everyone’s diet.  Learn how to grow a container garden for your kitchenKey Components:Container gardeningTAMU Teaching Garden field tripMaximizing SNAP benefits through gardening
URL:https://www.bvcil.org/event/gardening-for-the-kitchen-2022-11-15/
LOCATION:Brazos Valley Center for Independent Living\, 1869 Briarcrest Dr\, Bryan\, TX\, 77802
ORGANIZER;CN="Brazos Valley Center for Independent Living":MAILTO:info@bvcil.org
END:VEVENT
BEGIN:VEVENT
DTSTART;TZID=America/Chicago:20221108T110000
DTEND;TZID=America/Chicago:20221108T120000
DTSTAMP:20260424T104428
CREATED:20220826T184420Z
LAST-MODIFIED:20221102T153321Z
UID:7899-1667905200-1667908800@www.bvcil.org
SUMMARY:Financial Navigation
DESCRIPTION:Day:TuesdaysTime:1:00 pmDuration:14 weeks beginning August 29thFacilitator:Justin DeLeonCourse Description:Managing money and navigating a complex financial world are key components of independence for everyone.  This course will begin with the basics of money management and how to access the tools and institutions available.Key Components:Basic money managementSaving for the futureHow to balance a checkbookUnderstanding CreditDebit Cards v Credit CardsBill payment and BudgetingKnowing your bankHow to Build Wealth for the future
URL:https://www.bvcil.org/event/financial-navigation-2022-11-07/
LOCATION:Brazos Valley Center for Independent Living\, 1869 Briarcrest Dr\, Bryan\, TX\, 77802
ORGANIZER;CN="Brazos Valley Center for Independent Living":MAILTO:info@bvcil.org
END:VEVENT
END:VCALENDAR