BEGIN:VCALENDAR
VERSION:2.0
PRODID:-//Brazos Valley Center for Independent Living - ECPv6.15.20//NONSGML v1.0//EN
CALSCALE:GREGORIAN
METHOD:PUBLISH
X-ORIGINAL-URL:https://www.bvcil.org
X-WR-CALDESC:Events for Brazos Valley Center for Independent Living
REFRESH-INTERVAL;VALUE=DURATION:PT1H
X-Robots-Tag:noindex
X-PUBLISHED-TTL:PT1H
BEGIN:VTIMEZONE
TZID:America/Chicago
BEGIN:DAYLIGHT
TZOFFSETFROM:-0600
TZOFFSETTO:-0500
TZNAME:CDT
DTSTART:20210314T080000
END:DAYLIGHT
BEGIN:STANDARD
TZOFFSETFROM:-0500
TZOFFSETTO:-0600
TZNAME:CST
DTSTART:20211107T070000
END:STANDARD
BEGIN:DAYLIGHT
TZOFFSETFROM:-0600
TZOFFSETTO:-0500
TZNAME:CDT
DTSTART:20220313T080000
END:DAYLIGHT
BEGIN:STANDARD
TZOFFSETFROM:-0500
TZOFFSETTO:-0600
TZNAME:CST
DTSTART:20221106T070000
END:STANDARD
BEGIN:DAYLIGHT
TZOFFSETFROM:-0600
TZOFFSETTO:-0500
TZNAME:CDT
DTSTART:20230312T080000
END:DAYLIGHT
BEGIN:STANDARD
TZOFFSETFROM:-0500
TZOFFSETTO:-0600
TZNAME:CST
DTSTART:20231105T070000
END:STANDARD
END:VTIMEZONE
BEGIN:VEVENT
DTSTART;TZID=America/Chicago:20221101T150000
DTEND;TZID=America/Chicago:20221101T160000
DTSTAMP:20260424T172827
CREATED:20220826T183544Z
LAST-MODIFIED:20220907T145003Z
UID:7837-1667314800-1667318400@www.bvcil.org
SUMMARY:Gardening for the Kitchen
DESCRIPTION:Day:TuesdaysTime:3:00 pmDuration:14 weeks beginning August 30thFacilitator:Mack MarshCourse Description:Fresh herbs and vegetables can be a healthy and economical part of everyone’s diet.  Learn how to grow a container garden for your kitchenKey Components:Container gardeningTAMU Teaching Garden field tripMaximizing SNAP benefits through gardening
URL:https://www.bvcil.org/event/gardening-for-the-kitchen-2022-11-01/
LOCATION:Brazos Valley Center for Independent Living\, 1869 Briarcrest Dr\, Bryan\, TX\, 77802
ORGANIZER;CN="Brazos Valley Center for Independent Living":MAILTO:info@bvcil.org
END:VEVENT
BEGIN:VEVENT
DTSTART;TZID=America/Chicago:20221101T110000
DTEND;TZID=America/Chicago:20221101T120000
DTSTAMP:20260424T172827
CREATED:20220826T184100Z
LAST-MODIFIED:20220907T145718Z
UID:7869-1667300400-1667304000@www.bvcil.org
SUMMARY:Accessing Community
DESCRIPTION:Day:Tuesdays          Time:11:00 amDuration:14 weeks beginning August 30thFacilitator:Justin DeLeonCourse Description:There are numerous supports available for people with disabilities to live and work in their community.  Navigating these services can often be confusing and overwhelming.  In this 14-week course\, learn about the supports available\, meet the people involved and how to navigate the processes.Key Components:MHMRTWC-VRHousing Voucher Benefits PlanningLIHEAP
URL:https://www.bvcil.org/event/accessing-community-2022-11-01/
LOCATION:Brazos Valley Center for Independent Living\, 1869 Briarcrest Dr\, Bryan\, TX\, 77802
ORGANIZER;CN="Brazos Valley Center for Independent Living":MAILTO:info@bvcil.org
END:VEVENT
BEGIN:VEVENT
DTSTART;TZID=America/Chicago:20221031T130000
DTEND;TZID=America/Chicago:20221031T140000
DTSTAMP:20260424T172827
CREATED:20220826T184419Z
LAST-MODIFIED:20220907T145633Z
UID:7898-1667221200-1667224800@www.bvcil.org
SUMMARY:Financial Navigation
DESCRIPTION:Day:MondaysTime:1:00 pmDuration:14 weeks beginning August 29thFacilitator:Justin DeLeonCourse Description:Managing money and navigating a complex financial world are key components of independence for everyone.  This course will begin with the basics of money management and how to access the tools and institutions available.Key Components:Basic money managementSaving for the futureHow to balance a checkbookUnderstanding CreditDebit Cards v Credit CardsBill payment and BudgetingKnowing your bankHow to Build Wealth for the future
URL:https://www.bvcil.org/event/financial-navigation-2022-10-31/
LOCATION:Brazos Valley Center for Independent Living\, 1869 Briarcrest Dr\, Bryan\, TX\, 77802
ORGANIZER;CN="Brazos Valley Center for Independent Living":MAILTO:info@bvcil.org
END:VEVENT
BEGIN:VEVENT
DTSTART;TZID=America/Chicago:20221027T160000
DTEND;TZID=America/Chicago:20221027T170000
DTSTAMP:20260424T172827
CREATED:20220825T214623Z
LAST-MODIFIED:20220907T144405Z
UID:7927-1666886400-1666890000@www.bvcil.org
SUMMARY:Art and Science of Mindful Meditation
DESCRIPTION:Day:ThursdaysTime:4:00 pmDuration:14 weeks beginning September 1stFacilitator:Justin DeLeonCourse Description:Centering your mind and having techniques to calm your spirit are important tools to achieve independence.  In this course learn techniques to do both as well as the history of various types of meditation and how they benefit you.Key Components:History of meditationThe mind/body connectionTechniques of meditation
URL:https://www.bvcil.org/event/art-and-science-of-mindful-meditation-2022-10-27/
LOCATION:Brazos Valley Center for Independent Living\, 1869 Briarcrest Dr\, Bryan\, TX\, 77802
ORGANIZER;CN="Brazos Valley Center for Independent Living":MAILTO:info@bvcil.org
END:VEVENT
BEGIN:VEVENT
DTSTART;TZID=America/Chicago:20221027T160000
DTEND;TZID=America/Chicago:20221027T170000
DTSTAMP:20260424T172827
CREATED:20220825T211620Z
LAST-MODIFIED:20220907T144328Z
UID:7743-1666886400-1666890000@www.bvcil.org
SUMMARY:Leadership Advocacy (Invitation Only)
DESCRIPTION:Day:ThursdaysTime:4:00 pmDuration:14 weeks beginning September 1stFacilitator:Mack MarshCourse Description:People with disabilities represent 20% of our population; it’s important they have a voice.  In this group learn how to be an effective representative for the disability community and how to use your voice to influence programs and policy.Key Components:Systems advocacy
URL:https://www.bvcil.org/event/leadership-advocacy-invitation-only-2022-10-27/
LOCATION:Brazos Valley Center for Independent Living\, 1869 Briarcrest Dr\, Bryan\, TX\, 77802
ORGANIZER;CN="Brazos Valley Center for Independent Living":MAILTO:info@bvcil.org
END:VEVENT
BEGIN:VEVENT
DTSTART;TZID=America/Chicago:20221027T110000
DTEND;TZID=America/Chicago:20221027T120000
DTSTAMP:20260424T172827
CREATED:20220826T181059Z
LAST-MODIFIED:20220907T144307Z
UID:7762-1666868400-1666872000@www.bvcil.org
SUMMARY:Get in Gear
DESCRIPTION:Day:ThursdaysTime:11:00 amDuration:14 weeks beginning September 1stFacilitator:Justin DeLeonCourse Description:Get your sweat on!  Exercise is important to your physical and mental health.  Learn about exercise and take part in a high-intensity exercise classKey Components:Different types of exerciseHow to choose the right workoutGet that heart rate up
URL:https://www.bvcil.org/event/get-in-gear-2022-10-27/
LOCATION:Brazos Valley Center for Independent Living\, 1869 Briarcrest Dr\, Bryan\, TX\, 77802
ORGANIZER;CN="Brazos Valley Center for Independent Living":MAILTO:info@bvcil.org
END:VEVENT
BEGIN:VEVENT
DTSTART;TZID=America/Chicago:20221026T150000
DTEND;TZID=America/Chicago:20221026T170000
DTSTAMP:20260424T172827
CREATED:20220826T181939Z
LAST-MODIFIED:20220928T193212Z
UID:8821-1666796400-1666803600@www.bvcil.org
SUMMARY:Destination Bryan/ College Station
DESCRIPTION:Day:WednesdaysTime:3:00 pmDuration:14 weeks beginning August 31stFacilitator:Ana San AndresCourse Description:Each week take a journey to a fun\, meaningful location around town.  Learn to navigate various forms of transportation and learn the history and society of the B/CS CommunityKey Components:Transportation NavigationHistorically and culturally relevant destinationsRepresent people with disabilities and BVCIL in the community
URL:https://www.bvcil.org/event/destination-bryan-college-station-2022-09-28-2-2022-10-05-2022-10-05-2022-10-26/
LOCATION:Brazos Valley Center for Independent Living\, 1869 Briarcrest Dr\, Bryan\, TX\, 77802
END:VEVENT
BEGIN:VEVENT
DTSTART;TZID=America/Chicago:20220928T150000
DTEND;TZID=America/Chicago:20220928T170000
DTSTAMP:20260424T172827
CREATED:20220826T181939Z
LAST-MODIFIED:20220928T191722Z
UID:8816-1664377200-1664384400@www.bvcil.org
SUMMARY:Destination Bryan/ College Station
DESCRIPTION:Day:WednesdaysTime:3:00 pmDuration:14 weeks beginning August 31stFacilitator:Ana San AndresCourse Description:Each week take a journey to a fun\, meaningful location around town.  Learn to navigate various forms of transportation and learn the history and society of the B/CS CommunityKey Components:Transportation NavigationHistorically and culturally relevant destinationsRepresent people with disabilities and BVCIL in the community
URL:https://www.bvcil.org/event/destination-bryan-college-station-2022-09-28-2/
LOCATION:Brazos Valley Center for Independent Living\, 1869 Briarcrest Dr\, Bryan\, TX\, 77802
END:VEVENT
BEGIN:VEVENT
DTSTART;TZID=America/Chicago:20221026T130000
DTEND;TZID=America/Chicago:20221026T140000
DTSTAMP:20260424T172827
CREATED:20220826T182320Z
LAST-MODIFIED:20220907T144231Z
UID:7804-1666789200-1666792800@www.bvcil.org
SUMMARY:Purposeful Body Movement
DESCRIPTION:Day:WednesdaysTime:1:00 pmDuration:14 weeks beginning August 31stFacilitator:Justin DeLeonCourse Description:Get your heart rate up and learn some new moves.  Dance is a fun\, beautiful form of healthy exercise. Key Components:Why is dance importantDance as exerciseDifferent forms of dance
URL:https://www.bvcil.org/event/purposeful-body-movement-2022-10-26/
LOCATION:Brazos Valley Center for Independent Living\, 1869 Briarcrest Dr\, Bryan\, TX\, 77802
ORGANIZER;CN="Brazos Valley Center for Independent Living":MAILTO:info@bvcil.org
END:VEVENT
BEGIN:VEVENT
DTSTART;TZID=America/Chicago:20221025T160000
DTEND;TZID=America/Chicago:20221025T170000
DTSTAMP:20260424T172827
CREATED:20220826T182626Z
LAST-MODIFIED:20220926T180511Z
UID:7820-1666713600-1666717200@www.bvcil.org
SUMMARY:Healthy Cooking
DESCRIPTION:Day:TuesdaysTime:4:00 pmDuration:14 weeks beginning August 30thFacilitator:Justin De LeonCourse Description:Learn how to safely access your kitchen and plan and prepare delicious\, nutritious\, and economical. Key Components:Food handlers certification Adapted cooking toolsKitchen safety and cleanlinessPlanning a healthy dietPreparing healthy recipesParing your kitchen garden with your kitchen
URL:https://www.bvcil.org/event/healthy-cooking-2022-10-25/
LOCATION:Brazos Valley Center for Independent Living\, 1869 Briarcrest Dr\, Bryan\, TX\, 77802
ORGANIZER;CN="Brazos Valley Center for Independent Living":MAILTO:info@bvcil.org
END:VEVENT
BEGIN:VEVENT
DTSTART;TZID=America/Chicago:20221025T150000
DTEND;TZID=America/Chicago:20221025T160000
DTSTAMP:20260424T172827
CREATED:20220826T183543Z
LAST-MODIFIED:20220907T144053Z
UID:7836-1666710000-1666713600@www.bvcil.org
SUMMARY:Gardening for the Kitchen
DESCRIPTION:Day:TuesdaysTime:3:00 pmDuration:14 weeks beginning August 30thFacilitator:Mack MarshCourse Description:Fresh herbs and vegetables can be a healthy and economical part of everyone’s diet.  Learn how to grow a container garden for your kitchenKey Components:Container gardeningTAMU Teaching Garden field tripMaximizing SNAP benefits through gardening
URL:https://www.bvcil.org/event/gardening-for-the-kitchen-2022-10-25/
LOCATION:Brazos Valley Center for Independent Living\, 1869 Briarcrest Dr\, Bryan\, TX\, 77802
ORGANIZER;CN="Brazos Valley Center for Independent Living":MAILTO:info@bvcil.org
END:VEVENT
BEGIN:VEVENT
DTSTART;TZID=America/Chicago:20221025T110000
DTEND;TZID=America/Chicago:20221025T120000
DTSTAMP:20260424T172827
CREATED:20220826T184059Z
LAST-MODIFIED:20220907T143957Z
UID:7868-1666695600-1666699200@www.bvcil.org
SUMMARY:Accessing Community
DESCRIPTION:Day:Tuesdays          Time:11:00 amDuration:14 weeks beginning August 30thFacilitator:Justin DeLeonCourse Description:There are numerous supports available for people with disabilities to live and work in their community.  Navigating these services can often be confusing and overwhelming.  In this 14-week course\, learn about the supports available\, meet the people involved and how to navigate the processes.Key Components:MHMRTWC-VRHousing Voucher Benefits PlanningLIHEAP
URL:https://www.bvcil.org/event/accessing-community-2022-10-25/
LOCATION:Brazos Valley Center for Independent Living\, 1869 Briarcrest Dr\, Bryan\, TX\, 77802
ORGANIZER;CN="Brazos Valley Center for Independent Living":MAILTO:info@bvcil.org
END:VEVENT
BEGIN:VEVENT
DTSTART;TZID=America/Chicago:20220829T130000
DTEND;TZID=America/Chicago:20220829T140000
DTSTAMP:20260424T172827
CREATED:20220826T184409Z
LAST-MODIFIED:20220826T184411Z
UID:7887-1661778000-1661781600@www.bvcil.org
SUMMARY:Financial Navigation
DESCRIPTION:Day:MondaysTime:1:00 pmDuration:14 weeks beginning August 29thFacilitator:Justin DeLeonCourse Description:Managing money and navigating a complex financial world are key components of independence for everyone.  This course will begin with the basics of money management and how to access the tools and institutions available.Key Components:Basic money managementSaving for the futureHow to balance a checkbookUnderstanding CreditDebit Cards v Credit CardsBill payment and BudgetingKnowing your bankHow to Build Wealth for the future
URL:https://www.bvcil.org/event/financial-navigation/
LOCATION:Brazos Valley Center for Independent Living\, 1869 Briarcrest Dr\, Bryan\, TX\, 77802
END:VEVENT
BEGIN:VEVENT
DTSTART;TZID=America/Chicago:20221020T160000
DTEND;TZID=America/Chicago:20221020T170000
DTSTAMP:20260424T172827
CREATED:20220825T214623Z
LAST-MODIFIED:20220907T143808Z
UID:7926-1666281600-1666285200@www.bvcil.org
SUMMARY:Art and Science of Mindful Meditation
DESCRIPTION:Day:ThursdaysTime:4:00 pmDuration:14 weeks beginning September 1stFacilitator:Justin DeLeonCourse Description:Centering your mind and having techniques to calm your spirit are important tools to achieve independence.  In this course learn techniques to do both as well as the history of various types of meditation and how they benefit you.Key Components:History of meditationThe mind/body connectionTechniques of meditation
URL:https://www.bvcil.org/event/art-and-science-of-mindful-meditation-2022-10-20/
LOCATION:Brazos Valley Center for Independent Living\, 1869 Briarcrest Dr\, Bryan\, TX\, 77802
ORGANIZER;CN="Brazos Valley Center for Independent Living":MAILTO:info@bvcil.org
END:VEVENT
BEGIN:VEVENT
DTSTART;TZID=America/Chicago:20221020T160000
DTEND;TZID=America/Chicago:20221020T170000
DTSTAMP:20260424T172827
CREATED:20220825T211620Z
LAST-MODIFIED:20220907T143730Z
UID:7742-1666281600-1666285200@www.bvcil.org
SUMMARY:Leadership Advocacy (Invitation Only)
DESCRIPTION:Day:ThursdaysTime:4:00 pmDuration:14 weeks beginning September 1stFacilitator:Mack MarshCourse Description:People with disabilities represent 20% of our population; it’s important they have a voice.  In this group learn how to be an effective representative for the disability community and how to use your voice to influence programs and policy.Key Components:Systems advocacy
URL:https://www.bvcil.org/event/leadership-advocacy-invitation-only-2022-10-20/
LOCATION:Brazos Valley Center for Independent Living\, 1869 Briarcrest Dr\, Bryan\, TX\, 77802
ORGANIZER;CN="Brazos Valley Center for Independent Living":MAILTO:info@bvcil.org
END:VEVENT
BEGIN:VEVENT
DTSTART;TZID=America/Chicago:20221020T110000
DTEND;TZID=America/Chicago:20221020T120000
DTSTAMP:20260424T172827
CREATED:20220826T181059Z
LAST-MODIFIED:20220907T143708Z
UID:7761-1666263600-1666267200@www.bvcil.org
SUMMARY:Get in Gear
DESCRIPTION:Day:ThursdaysTime:11:00 amDuration:14 weeks beginning September 1stFacilitator:Justin DeLeonCourse Description:Get your sweat on!  Exercise is important to your physical and mental health.  Learn about exercise and take part in a high-intensity exercise classKey Components:Different types of exerciseHow to choose the right workoutGet that heart rate up
URL:https://www.bvcil.org/event/get-in-gear-2022-10-20/
LOCATION:Brazos Valley Center for Independent Living\, 1869 Briarcrest Dr\, Bryan\, TX\, 77802
ORGANIZER;CN="Brazos Valley Center for Independent Living":MAILTO:info@bvcil.org
END:VEVENT
BEGIN:VEVENT
DTSTART;TZID=America/Chicago:20221019T150000
DTEND;TZID=America/Chicago:20221019T170000
DTSTAMP:20260424T172827
CREATED:20220826T181939Z
LAST-MODIFIED:20220928T193058Z
UID:8819-1666191600-1666198800@www.bvcil.org
SUMMARY:Destination Bryan/ College Station
DESCRIPTION:Day:WednesdaysTime:3:00 pmDuration:14 weeks beginning August 31stFacilitator:Ana San AndresCourse Description:Each week take a journey to a fun\, meaningful location around town.  Learn to navigate various forms of transportation and learn the history and society of the B/CS CommunityKey Components:Transportation NavigationHistorically and culturally relevant destinationsRepresent people with disabilities and BVCIL in the community
URL:https://www.bvcil.org/event/destination-bryan-college-station-2022-09-28-2-2022-10-05-2022-10-05-2022-10-19/
LOCATION:Brazos Valley Center for Independent Living\, 1869 Briarcrest Dr\, Bryan\, TX\, 77802
END:VEVENT
BEGIN:VEVENT
DTSTART;TZID=America/Chicago:20220928T150000
DTEND;TZID=America/Chicago:20220928T170000
DTSTAMP:20260424T172827
CREATED:20220826T181939Z
LAST-MODIFIED:20220928T191722Z
UID:8816-1664377200-1664384400@www.bvcil.org
SUMMARY:Destination Bryan/ College Station
DESCRIPTION:Day:WednesdaysTime:3:00 pmDuration:14 weeks beginning August 31stFacilitator:Ana San AndresCourse Description:Each week take a journey to a fun\, meaningful location around town.  Learn to navigate various forms of transportation and learn the history and society of the B/CS CommunityKey Components:Transportation NavigationHistorically and culturally relevant destinationsRepresent people with disabilities and BVCIL in the community
URL:https://www.bvcil.org/event/destination-bryan-college-station-2022-09-28-2/
LOCATION:Brazos Valley Center for Independent Living\, 1869 Briarcrest Dr\, Bryan\, TX\, 77802
END:VEVENT
BEGIN:VEVENT
DTSTART;TZID=America/Chicago:20221019T130000
DTEND;TZID=America/Chicago:20221019T140000
DTSTAMP:20260424T172827
CREATED:20220826T182319Z
LAST-MODIFIED:20220907T143626Z
UID:7803-1666184400-1666188000@www.bvcil.org
SUMMARY:Purposeful Body Movement
DESCRIPTION:Day:WednesdaysTime:1:00 pmDuration:14 weeks beginning August 31stFacilitator:Justin DeLeonCourse Description:Get your heart rate up and learn some new moves.  Dance is a fun\, beautiful form of healthy exercise. Key Components:Why is dance importantDance as exerciseDifferent forms of dance
URL:https://www.bvcil.org/event/purposeful-body-movement-2022-10-19/
LOCATION:Brazos Valley Center for Independent Living\, 1869 Briarcrest Dr\, Bryan\, TX\, 77802
ORGANIZER;CN="Brazos Valley Center for Independent Living":MAILTO:info@bvcil.org
END:VEVENT
BEGIN:VEVENT
DTSTART;TZID=America/Chicago:20221018T160000
DTEND;TZID=America/Chicago:20221018T170000
DTSTAMP:20260424T172827
CREATED:20220826T182626Z
LAST-MODIFIED:20220926T180501Z
UID:7819-1666108800-1666112400@www.bvcil.org
SUMMARY:Healthy Cooking
DESCRIPTION:Day:TuesdaysTime:4:00 pmDuration:14 weeks beginning August 30thFacilitator:Justin De LeonCourse Description:Learn how to safely access your kitchen and plan and prepare delicious\, nutritious\, and economical. Key Components:Food handlers certification Adapted cooking toolsKitchen safety and cleanlinessPlanning a healthy dietPreparing healthy recipesParing your kitchen garden with your kitchen
URL:https://www.bvcil.org/event/healthy-cooking-2022-10-18/
LOCATION:Brazos Valley Center for Independent Living\, 1869 Briarcrest Dr\, Bryan\, TX\, 77802
ORGANIZER;CN="Brazos Valley Center for Independent Living":MAILTO:info@bvcil.org
END:VEVENT
BEGIN:VEVENT
DTSTART;TZID=America/Chicago:20221018T150000
DTEND;TZID=America/Chicago:20221018T160000
DTSTAMP:20260424T172827
CREATED:20220826T183542Z
LAST-MODIFIED:20220907T143408Z
UID:7835-1666105200-1666108800@www.bvcil.org
SUMMARY:Gardening for the Kitchen
DESCRIPTION:Day:TuesdaysTime:3:00 pmDuration:14 weeks beginning August 30thFacilitator:Mack MarshCourse Description:Fresh herbs and vegetables can be a healthy and economical part of everyone’s diet.  Learn how to grow a container garden for your kitchenKey Components:Container gardeningTAMU Teaching Garden field tripMaximizing SNAP benefits through gardening
URL:https://www.bvcil.org/event/gardening-for-the-kitchen-2022-10-18/
LOCATION:Brazos Valley Center for Independent Living\, 1869 Briarcrest Dr\, Bryan\, TX\, 77802
ORGANIZER;CN="Brazos Valley Center for Independent Living":MAILTO:info@bvcil.org
END:VEVENT
BEGIN:VEVENT
DTSTART;TZID=America/Chicago:20221018T110000
DTEND;TZID=America/Chicago:20221018T120000
DTSTAMP:20260424T172827
CREATED:20220826T184057Z
LAST-MODIFIED:20220907T143202Z
UID:7867-1666090800-1666094400@www.bvcil.org
SUMMARY:Accessing Community
DESCRIPTION:Day:Tuesdays          Time:11:00 amDuration:14 weeks beginning August 30thFacilitator:Justin DeLeonCourse Description:There are numerous supports available for people with disabilities to live and work in their community.  Navigating these services can often be confusing and overwhelming.  In this 14-week course\, learn about the supports available\, meet the people involved and how to navigate the processes.Key Components:MHMRTWC-VRHousing Voucher Benefits PlanningLIHEAP
URL:https://www.bvcil.org/event/accessing-community-2022-10-18/
LOCATION:Brazos Valley Center for Independent Living\, 1869 Briarcrest Dr\, Bryan\, TX\, 77802
ORGANIZER;CN="Brazos Valley Center for Independent Living":MAILTO:info@bvcil.org
END:VEVENT
BEGIN:VEVENT
DTSTART;TZID=America/Chicago:20221017T130000
DTEND;TZID=America/Chicago:20221017T140000
DTSTAMP:20260424T172827
CREATED:20220826T184418Z
LAST-MODIFIED:20220907T143112Z
UID:7896-1666011600-1666015200@www.bvcil.org
SUMMARY:Financial Navigation
DESCRIPTION:Day:MondaysTime:1:00 pmDuration:14 weeks beginning August 29thFacilitator:Justin DeLeonCourse Description:Managing money and navigating a complex financial world are key components of independence for everyone.  This course will begin with the basics of money management and how to access the tools and institutions available.Key Components:Basic money managementSaving for the futureHow to balance a checkbookUnderstanding CreditDebit Cards v Credit CardsBill payment and BudgetingKnowing your bankHow to Build Wealth for the future
URL:https://www.bvcil.org/event/financial-navigation-2022-10-17/
LOCATION:Brazos Valley Center for Independent Living\, 1869 Briarcrest Dr\, Bryan\, TX\, 77802
ORGANIZER;CN="Brazos Valley Center for Independent Living":MAILTO:info@bvcil.org
END:VEVENT
BEGIN:VEVENT
DTSTART;TZID=America/Chicago:20221013T160000
DTEND;TZID=America/Chicago:20221013T170000
DTSTAMP:20260424T172827
CREATED:20220825T214623Z
LAST-MODIFIED:20220907T142818Z
UID:7925-1665676800-1665680400@www.bvcil.org
SUMMARY:Art and Science of Mindful Meditation
DESCRIPTION:Day:ThursdaysTime:4:00 pmDuration:14 weeks beginning September 1stFacilitator:Justin DeLeonCourse Description:Centering your mind and having techniques to calm your spirit are important tools to achieve independence.  In this course learn techniques to do both as well as the history of various types of meditation and how they benefit you.Key Components:History of meditationThe mind/body connectionTechniques of meditation
URL:https://www.bvcil.org/event/art-and-science-of-mindful-meditation-2022-10-13/
LOCATION:Brazos Valley Center for Independent Living\, 1869 Briarcrest Dr\, Bryan\, TX\, 77802
ORGANIZER;CN="Brazos Valley Center for Independent Living":MAILTO:info@bvcil.org
END:VEVENT
BEGIN:VEVENT
DTSTART;TZID=America/Chicago:20221013T160000
DTEND;TZID=America/Chicago:20221013T170000
DTSTAMP:20260424T172827
CREATED:20220825T211620Z
LAST-MODIFIED:20220907T142747Z
UID:7741-1665676800-1665680400@www.bvcil.org
SUMMARY:Leadership Advocacy (Invitation Only)
DESCRIPTION:Day:ThursdaysTime:4:00 pmDuration:14 weeks beginning September 1stFacilitator:Mack MarshCourse Description:People with disabilities represent 20% of our population; it’s important they have a voice.  In this group learn how to be an effective representative for the disability community and how to use your voice to influence programs and policy.Key Components:Systems advocacy
URL:https://www.bvcil.org/event/leadership-advocacy-invitation-only-2022-10-13/
LOCATION:Brazos Valley Center for Independent Living\, 1869 Briarcrest Dr\, Bryan\, TX\, 77802
ORGANIZER;CN="Brazos Valley Center for Independent Living":MAILTO:info@bvcil.org
END:VEVENT
BEGIN:VEVENT
DTSTART;TZID=America/Chicago:20221013T110000
DTEND;TZID=America/Chicago:20221013T120000
DTSTAMP:20260424T172827
CREATED:20220826T181059Z
LAST-MODIFIED:20220907T142720Z
UID:7760-1665658800-1665662400@www.bvcil.org
SUMMARY:Get in Gear
DESCRIPTION:Day:ThursdaysTime:11:00 amDuration:14 weeks beginning September 1stFacilitator:Justin DeLeonCourse Description:Get your sweat on!  Exercise is important to your physical and mental health.  Learn about exercise and take part in a high-intensity exercise classKey Components:Different types of exerciseHow to choose the right workoutGet that heart rate up
URL:https://www.bvcil.org/event/get-in-gear-2022-10-13/
LOCATION:Brazos Valley Center for Independent Living\, 1869 Briarcrest Dr\, Bryan\, TX\, 77802
ORGANIZER;CN="Brazos Valley Center for Independent Living":MAILTO:info@bvcil.org
END:VEVENT
BEGIN:VEVENT
DTSTART;TZID=America/Chicago:20221012T150000
DTEND;TZID=America/Chicago:20221012T170000
DTSTAMP:20260424T172827
CREATED:20220826T181939Z
LAST-MODIFIED:20220928T193005Z
UID:8818-1665586800-1665594000@www.bvcil.org
SUMMARY:Destination Bryan/ College Station
DESCRIPTION:Day:WednesdaysTime:3:00 pmDuration:14 weeks beginning August 31stFacilitator:Ana San AndresCourse Description:Each week take a journey to a fun\, meaningful location around town.  Learn to navigate various forms of transportation and learn the history and society of the B/CS CommunityKey Components:Transportation NavigationHistorically and culturally relevant destinationsRepresent people with disabilities and BVCIL in the community
URL:https://www.bvcil.org/event/destination-bryan-college-station-2022-09-28-2-2022-10-05-2022-10-05-2022-10-12/
LOCATION:Brazos Valley Center for Independent Living\, 1869 Briarcrest Dr\, Bryan\, TX\, 77802
END:VEVENT
BEGIN:VEVENT
DTSTART;TZID=America/Chicago:20220928T150000
DTEND;TZID=America/Chicago:20220928T170000
DTSTAMP:20260424T172827
CREATED:20220826T181939Z
LAST-MODIFIED:20220928T191722Z
UID:8816-1664377200-1664384400@www.bvcil.org
SUMMARY:Destination Bryan/ College Station
DESCRIPTION:Day:WednesdaysTime:3:00 pmDuration:14 weeks beginning August 31stFacilitator:Ana San AndresCourse Description:Each week take a journey to a fun\, meaningful location around town.  Learn to navigate various forms of transportation and learn the history and society of the B/CS CommunityKey Components:Transportation NavigationHistorically and culturally relevant destinationsRepresent people with disabilities and BVCIL in the community
URL:https://www.bvcil.org/event/destination-bryan-college-station-2022-09-28-2/
LOCATION:Brazos Valley Center for Independent Living\, 1869 Briarcrest Dr\, Bryan\, TX\, 77802
END:VEVENT
BEGIN:VEVENT
DTSTART;TZID=America/Chicago:20221012T130000
DTEND;TZID=America/Chicago:20221012T140000
DTSTAMP:20260424T172827
CREATED:20220826T182318Z
LAST-MODIFIED:20220907T142639Z
UID:7802-1665579600-1665583200@www.bvcil.org
SUMMARY:Purposeful Body Movement
DESCRIPTION:Day:WednesdaysTime:1:00 pmDuration:14 weeks beginning August 31stFacilitator:Justin DeLeonCourse Description:Get your heart rate up and learn some new moves.  Dance is a fun\, beautiful form of healthy exercise. Key Components:Why is dance importantDance as exerciseDifferent forms of dance
URL:https://www.bvcil.org/event/purposeful-body-movement-2022-10-12/
LOCATION:Brazos Valley Center for Independent Living\, 1869 Briarcrest Dr\, Bryan\, TX\, 77802
ORGANIZER;CN="Brazos Valley Center for Independent Living":MAILTO:info@bvcil.org
END:VEVENT
BEGIN:VEVENT
DTSTART;TZID=America/Chicago:20220831T110000
DTEND;TZID=America/Chicago:20220831T120000
DTSTAMP:20260424T172827
CREATED:20220829T142631Z
LAST-MODIFIED:20220907T182758Z
UID:7978-1661943600-1661947200@www.bvcil.org
SUMMARY:Preparing to Drive
DESCRIPTION:Day:WednesdaysTime:11:00 amDuration:14 weeks beginning August 31stFacilitator:Justin DeLeonCourse Description:Driving is a serious responsibility.  In this course\, you will learn the rules of the road and prepare for the Texas Written Driving Exam.  This course DOES NOT replace formal driver’s education.Key Components:Rules of the roadPreparation for the written driver’s test
URL:https://www.bvcil.org/event/preparing-to-drive/
LOCATION:Brazos Valley Center for Independent Living\, 1869 Briarcrest Dr\, Bryan\, TX\, 77802
END:VEVENT
END:VCALENDAR