BEGIN:VCALENDAR
VERSION:2.0
PRODID:-//Brazos Valley Center for Independent Living - ECPv6.15.20//NONSGML v1.0//EN
CALSCALE:GREGORIAN
METHOD:PUBLISH
X-WR-CALNAME:Brazos Valley Center for Independent Living
X-ORIGINAL-URL:https://www.bvcil.org
X-WR-CALDESC:Events for Brazos Valley Center for Independent Living
REFRESH-INTERVAL;VALUE=DURATION:PT1H
X-Robots-Tag:noindex
X-PUBLISHED-TTL:PT1H
BEGIN:VTIMEZONE
TZID:America/Chicago
BEGIN:DAYLIGHT
TZOFFSETFROM:-0600
TZOFFSETTO:-0500
TZNAME:CDT
DTSTART:20210314T080000
END:DAYLIGHT
BEGIN:STANDARD
TZOFFSETFROM:-0500
TZOFFSETTO:-0600
TZNAME:CST
DTSTART:20211107T070000
END:STANDARD
BEGIN:DAYLIGHT
TZOFFSETFROM:-0600
TZOFFSETTO:-0500
TZNAME:CDT
DTSTART:20220313T080000
END:DAYLIGHT
BEGIN:STANDARD
TZOFFSETFROM:-0500
TZOFFSETTO:-0600
TZNAME:CST
DTSTART:20221106T070000
END:STANDARD
BEGIN:DAYLIGHT
TZOFFSETFROM:-0600
TZOFFSETTO:-0500
TZNAME:CDT
DTSTART:20230312T080000
END:DAYLIGHT
BEGIN:STANDARD
TZOFFSETFROM:-0500
TZOFFSETTO:-0600
TZNAME:CST
DTSTART:20231105T070000
END:STANDARD
END:VTIMEZONE
BEGIN:VEVENT
DTSTART;TZID=America/Chicago:20221013T160000
DTEND;TZID=America/Chicago:20221013T170000
DTSTAMP:20260424T210616
CREATED:20220825T211620Z
LAST-MODIFIED:20220907T142747Z
UID:7741-1665676800-1665680400@www.bvcil.org
SUMMARY:Leadership Advocacy (Invitation Only)
DESCRIPTION:Day:ThursdaysTime:4:00 pmDuration:14 weeks beginning September 1stFacilitator:Mack MarshCourse Description:People with disabilities represent 20% of our population; it’s important they have a voice.  In this group learn how to be an effective representative for the disability community and how to use your voice to influence programs and policy.Key Components:Systems advocacy
URL:https://www.bvcil.org/event/leadership-advocacy-invitation-only-2022-10-13/
LOCATION:Brazos Valley Center for Independent Living\, 1869 Briarcrest Dr\, Bryan\, TX\, 77802
ORGANIZER;CN="Brazos Valley Center for Independent Living":MAILTO:info@bvcil.org
END:VEVENT
BEGIN:VEVENT
DTSTART;TZID=America/Chicago:20221013T110000
DTEND;TZID=America/Chicago:20221013T120000
DTSTAMP:20260424T210616
CREATED:20220826T181059Z
LAST-MODIFIED:20220907T142720Z
UID:7760-1665658800-1665662400@www.bvcil.org
SUMMARY:Get in Gear
DESCRIPTION:Day:ThursdaysTime:11:00 amDuration:14 weeks beginning September 1stFacilitator:Justin DeLeonCourse Description:Get your sweat on!  Exercise is important to your physical and mental health.  Learn about exercise and take part in a high-intensity exercise classKey Components:Different types of exerciseHow to choose the right workoutGet that heart rate up
URL:https://www.bvcil.org/event/get-in-gear-2022-10-13/
LOCATION:Brazos Valley Center for Independent Living\, 1869 Briarcrest Dr\, Bryan\, TX\, 77802
ORGANIZER;CN="Brazos Valley Center for Independent Living":MAILTO:info@bvcil.org
END:VEVENT
BEGIN:VEVENT
DTSTART;TZID=America/Chicago:20221012T150000
DTEND;TZID=America/Chicago:20221012T170000
DTSTAMP:20260424T210616
CREATED:20220826T181939Z
LAST-MODIFIED:20220928T193005Z
UID:8818-1665586800-1665594000@www.bvcil.org
SUMMARY:Destination Bryan/ College Station
DESCRIPTION:Day:WednesdaysTime:3:00 pmDuration:14 weeks beginning August 31stFacilitator:Ana San AndresCourse Description:Each week take a journey to a fun\, meaningful location around town.  Learn to navigate various forms of transportation and learn the history and society of the B/CS CommunityKey Components:Transportation NavigationHistorically and culturally relevant destinationsRepresent people with disabilities and BVCIL in the community
URL:https://www.bvcil.org/event/destination-bryan-college-station-2022-09-28-2-2022-10-05-2022-10-05-2022-10-12/
LOCATION:Brazos Valley Center for Independent Living\, 1869 Briarcrest Dr\, Bryan\, TX\, 77802
END:VEVENT
BEGIN:VEVENT
DTSTART;TZID=America/Chicago:20220928T150000
DTEND;TZID=America/Chicago:20220928T170000
DTSTAMP:20260424T210616
CREATED:20220826T181939Z
LAST-MODIFIED:20220928T191722Z
UID:8816-1664377200-1664384400@www.bvcil.org
SUMMARY:Destination Bryan/ College Station
DESCRIPTION:Day:WednesdaysTime:3:00 pmDuration:14 weeks beginning August 31stFacilitator:Ana San AndresCourse Description:Each week take a journey to a fun\, meaningful location around town.  Learn to navigate various forms of transportation and learn the history and society of the B/CS CommunityKey Components:Transportation NavigationHistorically and culturally relevant destinationsRepresent people with disabilities and BVCIL in the community
URL:https://www.bvcil.org/event/destination-bryan-college-station-2022-09-28-2/
LOCATION:Brazos Valley Center for Independent Living\, 1869 Briarcrest Dr\, Bryan\, TX\, 77802
END:VEVENT
BEGIN:VEVENT
DTSTART;TZID=America/Chicago:20221012T130000
DTEND;TZID=America/Chicago:20221012T140000
DTSTAMP:20260424T210616
CREATED:20220826T182318Z
LAST-MODIFIED:20220907T142639Z
UID:7802-1665579600-1665583200@www.bvcil.org
SUMMARY:Purposeful Body Movement
DESCRIPTION:Day:WednesdaysTime:1:00 pmDuration:14 weeks beginning August 31stFacilitator:Justin DeLeonCourse Description:Get your heart rate up and learn some new moves.  Dance is a fun\, beautiful form of healthy exercise. Key Components:Why is dance importantDance as exerciseDifferent forms of dance
URL:https://www.bvcil.org/event/purposeful-body-movement-2022-10-12/
LOCATION:Brazos Valley Center for Independent Living\, 1869 Briarcrest Dr\, Bryan\, TX\, 77802
ORGANIZER;CN="Brazos Valley Center for Independent Living":MAILTO:info@bvcil.org
END:VEVENT
BEGIN:VEVENT
DTSTART;TZID=America/Chicago:20220831T110000
DTEND;TZID=America/Chicago:20220831T120000
DTSTAMP:20260424T210616
CREATED:20220829T142631Z
LAST-MODIFIED:20220907T182758Z
UID:7978-1661943600-1661947200@www.bvcil.org
SUMMARY:Preparing to Drive
DESCRIPTION:Day:WednesdaysTime:11:00 amDuration:14 weeks beginning August 31stFacilitator:Justin DeLeonCourse Description:Driving is a serious responsibility.  In this course\, you will learn the rules of the road and prepare for the Texas Written Driving Exam.  This course DOES NOT replace formal driver’s education.Key Components:Rules of the roadPreparation for the written driver’s test
URL:https://www.bvcil.org/event/preparing-to-drive/
LOCATION:Brazos Valley Center for Independent Living\, 1869 Briarcrest Dr\, Bryan\, TX\, 77802
END:VEVENT
BEGIN:VEVENT
DTSTART;TZID=America/Chicago:20221011T160000
DTEND;TZID=America/Chicago:20221011T170000
DTSTAMP:20260424T210616
CREATED:20220826T182626Z
LAST-MODIFIED:20220926T180451Z
UID:7818-1665504000-1665507600@www.bvcil.org
SUMMARY:Healthy Cooking
DESCRIPTION:Day:TuesdaysTime:4:00 pmDuration:14 weeks beginning August 30thFacilitator:Justin De LeonCourse Description:Learn how to safely access your kitchen and plan and prepare delicious\, nutritious\, and economical. Key Components:Food handlers certification Adapted cooking toolsKitchen safety and cleanlinessPlanning a healthy dietPreparing healthy recipesParing your kitchen garden with your kitchen
URL:https://www.bvcil.org/event/healthy-cooking-2022-10-11/
LOCATION:Brazos Valley Center for Independent Living\, 1869 Briarcrest Dr\, Bryan\, TX\, 77802
ORGANIZER;CN="Brazos Valley Center for Independent Living":MAILTO:info@bvcil.org
END:VEVENT
BEGIN:VEVENT
DTSTART;TZID=America/Chicago:20221011T150000
DTEND;TZID=America/Chicago:20221011T160000
DTSTAMP:20260424T210616
CREATED:20220826T183542Z
LAST-MODIFIED:20220907T142455Z
UID:7834-1665500400-1665504000@www.bvcil.org
SUMMARY:Gardening for the Kitchen
DESCRIPTION:Day:TuesdaysTime:3:00 pmDuration:14 weeks beginning August 30thFacilitator:Mack MarshCourse Description:Fresh herbs and vegetables can be a healthy and economical part of everyone’s diet.  Learn how to grow a container garden for your kitchenKey Components:Container gardeningTAMU Teaching Garden field tripMaximizing SNAP benefits through gardening
URL:https://www.bvcil.org/event/gardening-for-the-kitchen-2022-10-11/
LOCATION:Brazos Valley Center for Independent Living\, 1869 Briarcrest Dr\, Bryan\, TX\, 77802
ORGANIZER;CN="Brazos Valley Center for Independent Living":MAILTO:info@bvcil.org
END:VEVENT
BEGIN:VEVENT
DTSTART;TZID=America/Chicago:20220831T110000
DTEND;TZID=America/Chicago:20220831T120000
DTSTAMP:20260424T210616
CREATED:20220829T142631Z
LAST-MODIFIED:20220907T182758Z
UID:7978-1661943600-1661947200@www.bvcil.org
SUMMARY:Preparing to Drive
DESCRIPTION:Day:WednesdaysTime:11:00 amDuration:14 weeks beginning August 31stFacilitator:Justin DeLeonCourse Description:Driving is a serious responsibility.  In this course\, you will learn the rules of the road and prepare for the Texas Written Driving Exam.  This course DOES NOT replace formal driver’s education.Key Components:Rules of the roadPreparation for the written driver’s test
URL:https://www.bvcil.org/event/preparing-to-drive/
LOCATION:Brazos Valley Center for Independent Living\, 1869 Briarcrest Dr\, Bryan\, TX\, 77802
END:VEVENT
BEGIN:VEVENT
DTSTART;TZID=America/Chicago:20221011T110000
DTEND;TZID=America/Chicago:20221011T120000
DTSTAMP:20260424T210616
CREATED:20220826T184057Z
LAST-MODIFIED:20220907T142357Z
UID:7866-1665486000-1665489600@www.bvcil.org
SUMMARY:Accessing Community
DESCRIPTION:Day:Tuesdays          Time:11:00 amDuration:14 weeks beginning August 30thFacilitator:Justin DeLeonCourse Description:There are numerous supports available for people with disabilities to live and work in their community.  Navigating these services can often be confusing and overwhelming.  In this 14-week course\, learn about the supports available\, meet the people involved and how to navigate the processes.Key Components:MHMRTWC-VRHousing Voucher Benefits PlanningLIHEAP
URL:https://www.bvcil.org/event/accessing-community-2022-10-11/
LOCATION:Brazos Valley Center for Independent Living\, 1869 Briarcrest Dr\, Bryan\, TX\, 77802
ORGANIZER;CN="Brazos Valley Center for Independent Living":MAILTO:info@bvcil.org
END:VEVENT
BEGIN:VEVENT
DTSTART;TZID=America/Chicago:20221006T160000
DTEND;TZID=America/Chicago:20221006T170000
DTSTAMP:20260424T210616
CREATED:20220825T214623Z
LAST-MODIFIED:20220907T142145Z
UID:7924-1665072000-1665075600@www.bvcil.org
SUMMARY:Art and Science of Mindful Meditation
DESCRIPTION:Day:ThursdaysTime:4:00 pmDuration:14 weeks beginning September 1stFacilitator:Justin DeLeonCourse Description:Centering your mind and having techniques to calm your spirit are important tools to achieve independence.  In this course learn techniques to do both as well as the history of various types of meditation and how they benefit you.Key Components:History of meditationThe mind/body connectionTechniques of meditation
URL:https://www.bvcil.org/event/art-and-science-of-mindful-meditation-2022-10-06/
LOCATION:Brazos Valley Center for Independent Living\, 1869 Briarcrest Dr\, Bryan\, TX\, 77802
ORGANIZER;CN="Brazos Valley Center for Independent Living":MAILTO:info@bvcil.org
END:VEVENT
BEGIN:VEVENT
DTSTART;TZID=America/Chicago:20221006T160000
DTEND;TZID=America/Chicago:20221006T170000
DTSTAMP:20260424T210616
CREATED:20220825T211620Z
LAST-MODIFIED:20220907T142120Z
UID:7740-1665072000-1665075600@www.bvcil.org
SUMMARY:Leadership Advocacy (Invitation Only)
DESCRIPTION:Day:ThursdaysTime:4:00 pmDuration:14 weeks beginning September 1stFacilitator:Mack MarshCourse Description:People with disabilities represent 20% of our population; it’s important they have a voice.  In this group learn how to be an effective representative for the disability community and how to use your voice to influence programs and policy.Key Components:Systems advocacy
URL:https://www.bvcil.org/event/leadership-advocacy-invitation-only-2022-10-06/
LOCATION:Brazos Valley Center for Independent Living\, 1869 Briarcrest Dr\, Bryan\, TX\, 77802
ORGANIZER;CN="Brazos Valley Center for Independent Living":MAILTO:info@bvcil.org
END:VEVENT
BEGIN:VEVENT
DTSTART;TZID=America/Chicago:20221006T110000
DTEND;TZID=America/Chicago:20221006T120000
DTSTAMP:20260424T210616
CREATED:20220826T181059Z
LAST-MODIFIED:20220907T142026Z
UID:7759-1665054000-1665057600@www.bvcil.org
SUMMARY:Get in Gear
DESCRIPTION:Day:ThursdaysTime:11:00 amDuration:14 weeks beginning September 1stFacilitator:Justin DeLeonCourse Description:Get your sweat on!  Exercise is important to your physical and mental health.  Learn about exercise and take part in a high-intensity exercise classKey Components:Different types of exerciseHow to choose the right workoutGet that heart rate up
URL:https://www.bvcil.org/event/get-in-gear-2022-10-06/
LOCATION:Brazos Valley Center for Independent Living\, 1869 Briarcrest Dr\, Bryan\, TX\, 77802
ORGANIZER;CN="Brazos Valley Center for Independent Living":MAILTO:info@bvcil.org
END:VEVENT
BEGIN:VEVENT
DTSTART;TZID=America/Chicago:20221005T150000
DTEND;TZID=America/Chicago:20221005T170000
DTSTAMP:20260424T210616
CREATED:20220826T181939Z
LAST-MODIFIED:20220928T192823Z
UID:8817-1664982000-1664989200@www.bvcil.org
SUMMARY:Destination Bryan/ College Station
DESCRIPTION:Day:WednesdaysTime:3:00 pmDuration:14 weeks beginning August 31stFacilitator:Ana San AndresCourse Description:Each week take a journey to a fun\, meaningful location around town.  Learn to navigate various forms of transportation and learn the history and society of the B/CS CommunityKey Components:Transportation NavigationHistorically and culturally relevant destinationsRepresent people with disabilities and BVCIL in the community
URL:https://www.bvcil.org/event/destination-bryan-college-station-2022-09-28-2-2022-10-05-2022-10-05/
LOCATION:Brazos Valley Center for Independent Living\, 1869 Briarcrest Dr\, Bryan\, TX\, 77802
END:VEVENT
BEGIN:VEVENT
DTSTART;TZID=America/Chicago:20221005T130000
DTEND;TZID=America/Chicago:20221005T140000
DTSTAMP:20260424T210616
CREATED:20220826T182318Z
LAST-MODIFIED:20220907T141455Z
UID:7801-1664974800-1664978400@www.bvcil.org
SUMMARY:Purposeful Body Movement
DESCRIPTION:Day:WednesdaysTime:1:00 pmDuration:14 weeks beginning August 31stFacilitator:Justin DeLeonCourse Description:Get your heart rate up and learn some new moves.  Dance is a fun\, beautiful form of healthy exercise. Key Components:Why is dance importantDance as exerciseDifferent forms of dance
URL:https://www.bvcil.org/event/purposeful-body-movement-2022-10-05/
LOCATION:Brazos Valley Center for Independent Living\, 1869 Briarcrest Dr\, Bryan\, TX\, 77802
ORGANIZER;CN="Brazos Valley Center for Independent Living":MAILTO:info@bvcil.org
END:VEVENT
BEGIN:VEVENT
DTSTART;TZID=America/Chicago:20220831T110000
DTEND;TZID=America/Chicago:20220831T120000
DTSTAMP:20260424T210616
CREATED:20220829T142631Z
LAST-MODIFIED:20220907T182758Z
UID:7978-1661943600-1661947200@www.bvcil.org
SUMMARY:Preparing to Drive
DESCRIPTION:Day:WednesdaysTime:11:00 amDuration:14 weeks beginning August 31stFacilitator:Justin DeLeonCourse Description:Driving is a serious responsibility.  In this course\, you will learn the rules of the road and prepare for the Texas Written Driving Exam.  This course DOES NOT replace formal driver’s education.Key Components:Rules of the roadPreparation for the written driver’s test
URL:https://www.bvcil.org/event/preparing-to-drive/
LOCATION:Brazos Valley Center for Independent Living\, 1869 Briarcrest Dr\, Bryan\, TX\, 77802
END:VEVENT
BEGIN:VEVENT
DTSTART;TZID=America/Chicago:20221004T160000
DTEND;TZID=America/Chicago:20221004T170000
DTSTAMP:20260424T210616
CREATED:20220826T182626Z
LAST-MODIFIED:20220926T180306Z
UID:7817-1664899200-1664902800@www.bvcil.org
SUMMARY:Healthy Cooking
DESCRIPTION:Day:TuesdaysTime:4:00 pmDuration:14 weeks beginning August 30thFacilitator:Justin De LeonCourse Description:Learn how to safely access your kitchen and plan and prepare delicious\, nutritious\, and economical. Key Components:Food handlers certification Adapted cooking toolsKitchen safety and cleanlinessPlanning a healthy dietPreparing healthy recipesParing your kitchen garden with your kitchen
URL:https://www.bvcil.org/event/healthy-cooking-2022-10-04/
LOCATION:Brazos Valley Center for Independent Living\, 1869 Briarcrest Dr\, Bryan\, TX\, 77802
ORGANIZER;CN="Brazos Valley Center for Independent Living":MAILTO:info@bvcil.org
END:VEVENT
BEGIN:VEVENT
DTSTART;TZID=America/Chicago:20221004T150000
DTEND;TZID=America/Chicago:20221004T160000
DTSTAMP:20260424T210616
CREATED:20220826T183542Z
LAST-MODIFIED:20220907T141341Z
UID:7833-1664895600-1664899200@www.bvcil.org
SUMMARY:Gardening for the Kitchen
DESCRIPTION:Day:TuesdaysTime:3:00 pmDuration:14 weeks beginning August 30thFacilitator:Mack MarshCourse Description:Fresh herbs and vegetables can be a healthy and economical part of everyone’s diet.  Learn how to grow a container garden for your kitchenKey Components:Container gardeningTAMU Teaching Garden field tripMaximizing SNAP benefits through gardening
URL:https://www.bvcil.org/event/gardening-for-the-kitchen-2022-10-04/
LOCATION:Brazos Valley Center for Independent Living\, 1869 Briarcrest Dr\, Bryan\, TX\, 77802
ORGANIZER;CN="Brazos Valley Center for Independent Living":MAILTO:info@bvcil.org
END:VEVENT
BEGIN:VEVENT
DTSTART;TZID=America/Chicago:20220831T110000
DTEND;TZID=America/Chicago:20220831T120000
DTSTAMP:20260424T210616
CREATED:20220829T142631Z
LAST-MODIFIED:20220907T182758Z
UID:7978-1661943600-1661947200@www.bvcil.org
SUMMARY:Preparing to Drive
DESCRIPTION:Day:WednesdaysTime:11:00 amDuration:14 weeks beginning August 31stFacilitator:Justin DeLeonCourse Description:Driving is a serious responsibility.  In this course\, you will learn the rules of the road and prepare for the Texas Written Driving Exam.  This course DOES NOT replace formal driver’s education.Key Components:Rules of the roadPreparation for the written driver’s test
URL:https://www.bvcil.org/event/preparing-to-drive/
LOCATION:Brazos Valley Center for Independent Living\, 1869 Briarcrest Dr\, Bryan\, TX\, 77802
END:VEVENT
BEGIN:VEVENT
DTSTART;TZID=America/Chicago:20221004T110000
DTEND;TZID=America/Chicago:20221004T120000
DTSTAMP:20260424T210616
CREATED:20220826T184056Z
LAST-MODIFIED:20220907T141251Z
UID:7865-1664881200-1664884800@www.bvcil.org
SUMMARY:Accessing Community
DESCRIPTION:Day:Tuesdays          Time:11:00 amDuration:14 weeks beginning August 30thFacilitator:Justin DeLeonCourse Description:There are numerous supports available for people with disabilities to live and work in their community.  Navigating these services can often be confusing and overwhelming.  In this 14-week course\, learn about the supports available\, meet the people involved and how to navigate the processes.Key Components:MHMRTWC-VRHousing Voucher Benefits PlanningLIHEAP
URL:https://www.bvcil.org/event/accessing-community-2022-10-04/
LOCATION:Brazos Valley Center for Independent Living\, 1869 Briarcrest Dr\, Bryan\, TX\, 77802
ORGANIZER;CN="Brazos Valley Center for Independent Living":MAILTO:info@bvcil.org
END:VEVENT
BEGIN:VEVENT
DTSTART;TZID=America/Chicago:20221003T130000
DTEND;TZID=America/Chicago:20221003T140000
DTSTAMP:20260424T210616
CREATED:20220826T184416Z
LAST-MODIFIED:20220926T205312Z
UID:7894-1664802000-1664805600@www.bvcil.org
SUMMARY:Financial Navigation
DESCRIPTION:Day:MondaysTime:1:00 pmDuration:14 weeks beginning August 29thFacilitator:Justin DeLeonCourse Description:Managing money and navigating a complex financial world are key components of independence for everyone.  This course will begin with the basics of money management and how to access the tools and institutions available.Key Components:This class will have a special guest speaker: Jay Meador\, Director of the Financial Fitness Center. The class topic will be: The Value of Financial Planning. 
URL:https://www.bvcil.org/event/financial-navigation-2022-10-03/
LOCATION:Brazos Valley Center for Independent Living\, 1869 Briarcrest Dr\, Bryan\, TX\, 77802
ATTACH;FMTTYPE=image/png:https://www.bvcil.org/wp-content/uploads/Lets-Talk-Money.png
ORGANIZER;CN="Brazos Valley Center for Independent Living":MAILTO:info@bvcil.org
END:VEVENT
BEGIN:VEVENT
DTSTART;TZID=America/Chicago:20220929T160000
DTEND;TZID=America/Chicago:20220929T170000
DTSTAMP:20260424T210616
CREATED:20220825T214623Z
LAST-MODIFIED:20220907T140327Z
UID:7923-1664467200-1664470800@www.bvcil.org
SUMMARY:Art and Science of Mindful Meditation
DESCRIPTION:Day:ThursdaysTime:4:00 pmDuration:14 weeks beginning September 1stFacilitator:Justin DeLeonCourse Description:Centering your mind and having techniques to calm your spirit are important tools to achieve independence.  In this course learn techniques to do both as well as the history of various types of meditation and how they benefit you.Key Components:History of meditationThe mind/body connectionTechniques of meditation
URL:https://www.bvcil.org/event/art-and-science-of-mindful-meditation-2022-09-29/
LOCATION:Brazos Valley Center for Independent Living\, 1869 Briarcrest Dr\, Bryan\, TX\, 77802
ORGANIZER;CN="Brazos Valley Center for Independent Living":MAILTO:info@bvcil.org
END:VEVENT
BEGIN:VEVENT
DTSTART;TZID=America/Chicago:20220929T160000
DTEND;TZID=America/Chicago:20220929T170000
DTSTAMP:20260424T210616
CREATED:20220825T211619Z
LAST-MODIFIED:20220907T140258Z
UID:7739-1664467200-1664470800@www.bvcil.org
SUMMARY:Leadership Advocacy (Invitation Only)
DESCRIPTION:Day:ThursdaysTime:4:00 pmDuration:14 weeks beginning September 1stFacilitator:Mack MarshCourse Description:People with disabilities represent 20% of our population; it’s important they have a voice.  In this group learn how to be an effective representative for the disability community and how to use your voice to influence programs and policy.Key Components:Systems advocacy
URL:https://www.bvcil.org/event/leadership-advocacy-invitation-only-2022-09-29/
LOCATION:Brazos Valley Center for Independent Living\, 1869 Briarcrest Dr\, Bryan\, TX\, 77802
ORGANIZER;CN="Brazos Valley Center for Independent Living":MAILTO:info@bvcil.org
END:VEVENT
BEGIN:VEVENT
DTSTART;TZID=America/Chicago:20220929T110000
DTEND;TZID=America/Chicago:20220929T120000
DTSTAMP:20260424T210616
CREATED:20220826T181059Z
LAST-MODIFIED:20220907T140231Z
UID:7758-1664449200-1664452800@www.bvcil.org
SUMMARY:Get in Gear
DESCRIPTION:Day:ThursdaysTime:11:00 amDuration:14 weeks beginning September 1stFacilitator:Justin DeLeonCourse Description:Get your sweat on!  Exercise is important to your physical and mental health.  Learn about exercise and take part in a high-intensity exercise classKey Components:Different types of exerciseHow to choose the right workoutGet that heart rate up
URL:https://www.bvcil.org/event/get-in-gear-2022-09-29/
LOCATION:Brazos Valley Center for Independent Living\, 1869 Briarcrest Dr\, Bryan\, TX\, 77802
ORGANIZER;CN="Brazos Valley Center for Independent Living":MAILTO:info@bvcil.org
END:VEVENT
BEGIN:VEVENT
DTSTART;TZID=America/Chicago:20220928T150000
DTEND;TZID=America/Chicago:20220928T170000
DTSTAMP:20260424T210616
CREATED:20220826T181939Z
LAST-MODIFIED:20220928T191722Z
UID:8816-1664377200-1664384400@www.bvcil.org
SUMMARY:Destination Bryan/ College Station
DESCRIPTION:Day:WednesdaysTime:3:00 pmDuration:14 weeks beginning August 31stFacilitator:Ana San AndresCourse Description:Each week take a journey to a fun\, meaningful location around town.  Learn to navigate various forms of transportation and learn the history and society of the B/CS CommunityKey Components:Transportation NavigationHistorically and culturally relevant destinationsRepresent people with disabilities and BVCIL in the community
URL:https://www.bvcil.org/event/destination-bryan-college-station-2022-09-28-2/
LOCATION:Brazos Valley Center for Independent Living\, 1869 Briarcrest Dr\, Bryan\, TX\, 77802
END:VEVENT
BEGIN:VEVENT
DTSTART;TZID=America/Chicago:20220831T150000
DTEND;TZID=America/Chicago:20220831T170000
DTSTAMP:20260424T210616
CREATED:20220826T181939Z
LAST-MODIFIED:20220928T175935Z
UID:7778-1661958000-1661965200@www.bvcil.org
SUMMARY:Destination Bryan/ College Station
DESCRIPTION:Day:WednesdaysTime:3:00 pmDuration:14 weeks beginning August 31stFacilitator:Ana San AndresCourse Description:Each week take a journey to a fun\, meaningful location around town.  Learn to navigate various forms of transportation and learn the history and society of the B/CS CommunityKey Components:Transportation NavigationHistorically and culturally relevant destinationsRepresent people with disabilities and BVCIL in the community
URL:https://www.bvcil.org/event/destination-bryan-college-station/
LOCATION:Brazos Valley Center for Independent Living\, 1869 Briarcrest Dr\, Bryan\, TX\, 77802
END:VEVENT
BEGIN:VEVENT
DTSTART;TZID=America/Chicago:20220928T130000
DTEND;TZID=America/Chicago:20220928T140000
DTSTAMP:20260424T210616
CREATED:20220826T182317Z
LAST-MODIFIED:20220907T140137Z
UID:7800-1664370000-1664373600@www.bvcil.org
SUMMARY:Purposeful Body Movement
DESCRIPTION:Day:WednesdaysTime:1:00 pmDuration:14 weeks beginning August 31stFacilitator:Justin DeLeonCourse Description:Get your heart rate up and learn some new moves.  Dance is a fun\, beautiful form of healthy exercise. Key Components:Why is dance importantDance as exerciseDifferent forms of dance
URL:https://www.bvcil.org/event/purposeful-body-movement-2022-09-28/
LOCATION:Brazos Valley Center for Independent Living\, 1869 Briarcrest Dr\, Bryan\, TX\, 77802
ORGANIZER;CN="Brazos Valley Center for Independent Living":MAILTO:info@bvcil.org
END:VEVENT
BEGIN:VEVENT
DTSTART;TZID=America/Chicago:20220831T110000
DTEND;TZID=America/Chicago:20220831T120000
DTSTAMP:20260424T210616
CREATED:20220829T142631Z
LAST-MODIFIED:20220907T182758Z
UID:7978-1661943600-1661947200@www.bvcil.org
SUMMARY:Preparing to Drive
DESCRIPTION:Day:WednesdaysTime:11:00 amDuration:14 weeks beginning August 31stFacilitator:Justin DeLeonCourse Description:Driving is a serious responsibility.  In this course\, you will learn the rules of the road and prepare for the Texas Written Driving Exam.  This course DOES NOT replace formal driver’s education.Key Components:Rules of the roadPreparation for the written driver’s test
URL:https://www.bvcil.org/event/preparing-to-drive/
LOCATION:Brazos Valley Center for Independent Living\, 1869 Briarcrest Dr\, Bryan\, TX\, 77802
END:VEVENT
BEGIN:VEVENT
DTSTART;TZID=America/Chicago:20220927T160000
DTEND;TZID=America/Chicago:20220927T170000
DTSTAMP:20260424T210616
CREATED:20220826T182626Z
LAST-MODIFIED:20220926T180252Z
UID:7816-1664294400-1664298000@www.bvcil.org
SUMMARY:Healthy Cooking
DESCRIPTION:Day:TuesdaysTime:4:00 pmDuration:14 weeks beginning August 30thFacilitator:Justin De LeonCourse Description:Learn how to safely access your kitchen and plan and prepare delicious\, nutritious\, and economical. Key Components:Food handlers certification Adapted cooking toolsKitchen safety and cleanlinessPlanning a healthy dietPreparing healthy recipesParing your kitchen garden with your kitchen
URL:https://www.bvcil.org/event/healthy-cooking-2022-09-27/
LOCATION:Brazos Valley Center for Independent Living\, 1869 Briarcrest Dr\, Bryan\, TX\, 77802
ORGANIZER;CN="Brazos Valley Center for Independent Living":MAILTO:info@bvcil.org
END:VEVENT
BEGIN:VEVENT
DTSTART;TZID=America/Chicago:20220927T150000
DTEND;TZID=America/Chicago:20220927T160000
DTSTAMP:20260424T210616
CREATED:20220826T183541Z
LAST-MODIFIED:20220907T135858Z
UID:7832-1664290800-1664294400@www.bvcil.org
SUMMARY:Gardening for the Kitchen
DESCRIPTION:Day:TuesdaysTime:3:00 pmDuration:14 weeks beginning August 30thFacilitator:Mack MarshCourse Description:Fresh herbs and vegetables can be a healthy and economical part of everyone’s diet.  Learn how to grow a container garden for your kitchenKey Components:Container gardeningTAMU Teaching Garden field tripMaximizing SNAP benefits through gardening
URL:https://www.bvcil.org/event/gardening-for-the-kitchen-2022-09-27/
LOCATION:Brazos Valley Center for Independent Living\, 1869 Briarcrest Dr\, Bryan\, TX\, 77802
ORGANIZER;CN="Brazos Valley Center for Independent Living":MAILTO:info@bvcil.org
END:VEVENT
END:VCALENDAR